BEGIN:VCALENDAR
VERSION:2.0

PRODID:-//Prague Bears//NONSGML Prague Bears//EN
URL:https://en.praguebears.cz/

TIMEZONE-ID:Europe/Prague
X-WR-TIMEZONE:Europe/Prague
REFRESH-INTERVAL;VALUE=DURATION:PT12H
X-PUBLISHED-TTL:PT12H
CALSCALE:GREGORIAN
METHOD:PUBLISH

BEGIN:VEVENT
CLASS:PUBLIC
CREATED:20250315T223200Z
DTSTAMP:20250315T223200Z
DTSTART:20250518T093000Z
DTEND:20250518T130000Z
SUMMARY:Bear Pride Czechia 2025 - Farewell Bear Lunch
LOCATION:U Hubatků, Pod Pekárnami 162/9, Prague, Czechia
DESCRIPTION:/Calendar.aspx?Event=1182\n\nHello bears, teddy bears, guys and friends of bears,\n\nlet's wrap up our bear family reunion with lunch and fill our bellies together\n\n\n\n•Please book your seat:\n\n https://www.tsjudgement.com/farewell-lunch-reservations/\n\nIt will make it easier for us to schedule places\n\n\n\nThe event is part of Bear Pride Czechia &amp; Election Mr Bear czechia 2024\n\nhttp://mrbear.cz\n\n
UID:event-1182@praguebears.cz
END:VEVENT


END:VCALENDAR