BEGIN:VCALENDAR
VERSION:2.0

PRODID:-//Prague Bears//NONSGML Prague Bears//EN
URL:https://en.praguebears.cz/

TIMEZONE-ID:Europe/Prague
X-WR-TIMEZONE:Europe/Prague
REFRESH-INTERVAL;VALUE=DURATION:PT12H
X-PUBLISHED-TTL:PT12H
CALSCALE:GREGORIAN
METHOD:PUBLISH

BEGIN:VEVENT
CLASS:PUBLIC
CREATED:20250316T121000Z
DTSTAMP:20250316T121000Z
DTSTART:20250517T113000Z
DTEND:20250517T133000Z
SUMMARY:Bear Pride Czechia 2025 - City Tour Walking
LOCATION:Statue of Saint Wenceslas, Venceslas Square, Prague, Czechia
DESCRIPTION:/Calendar.aspx?Event=1179\n\n\n A two-hour walk through the most interesting places in Prague with inserts about the history of the LGBT+ community.\n\n\n You will see all the important buildings and architectural styles of Prague's historic centre and learn about the historical, social and cultural factors that have shaped the city and society.\n\n\n The walk will be led by guide Julie Dvorská\n\n\n Meet-up: 1:30 PM under the horse statue at Wenceslas square\n \n\n maps.app.goo.gl/STB8rrTJJmpBPPia6\n\n\n Price: 400CZK (approx. 16EUR), payment at the meet-up point at the beginning of the tour …
UID:event-1179@praguebears.cz
END:VEVENT


END:VCALENDAR