BEGIN:VCALENDAR
VERSION:2.0

PRODID:-//Prague Bears//NONSGML Prague Bears//EN
URL:https://en.praguebears.cz/

NAME:Prague Bears Calendar
X-WR-CALNAME:Prague Bears Calendar
DESCRIPTION:Event calendar of Prague Bears.
X-WR-CALDESC:Event calendar of Prague Bears.
TIMEZONE-ID:Europe/Prague
X-WR-TIMEZONE:Europe/Prague
REFRESH-INTERVAL;VALUE=DURATION:PT12H
X-PUBLISHED-TTL:PT12H
CALSCALE:GREGORIAN
METHOD:PUBLISH

BEGIN:VEVENT
CLASS:PUBLIC
CREATED:20260327T192000Z
DTSTAMP:
DTSTART:20260429T170000Z
DTEND:20260429T200000Z
SUMMARY:Bear Hangout
LOCATION:Patra, Krymská 17, Prague, Czechia
DESCRIPTION:/Calendar.aspx?Event=1253\n\n\n Come hang out with bears and their admirers at a cozy bar with a folksy atmosphere\n – both alcoholic and non-alcoholic options are available.\n\n\n A casual evening where we often chat about various topics, ranging from nerdy things like movies, music and games, to stuff like work and other things that are going on in our lives.\n
UID:event-1253@praguebears.cz
END:VEVENT

BEGIN:VEVENT
CLASS:PUBLIC
CREATED:20250808T230000Z
DTSTAMP:
DTSTART:20260802T170000Z
DTEND:20260810T160000Z
SUMMARY:XII. International Prague Bear Summer 2026
LOCATION:Prague, Czechia
DESCRIPTION:https://praguebears.cz/BearSummer/\n\n
UID:event-1216@praguebears.cz
END:VEVENT

BEGIN:VEVENT
CLASS:PUBLIC
CREATED:20260327T212500Z
DTSTAMP:20260327T212500Z
DTSTART:20260903T090000Z
DTEND:20260917T090000Z
SUMMARY:On Tour: International Bears Sitges Week 2026
LOCATION:Bear Village, Sitges, Spain
DESCRIPTION:/Calendar.aspx?Event=1254\n\nWe are going to International Bears Sitges Week.\n \n\n https://bearssitges.org/bears-sitges-week/\n \n\n\n Info: Personally at our events.\n \n\n\n Tips for accommodation, travelling and prices:\n \n\n http://praguebears.cz/Travel/TravelHacks.aspx#sitges-hacks\n
UID:event-1254@praguebears.cz
END:VEVENT

BEGIN:VEVENT
CLASS:PUBLIC
CREATED:20260327T220800Z
DTSTAMP:20260327T220800Z
DTSTART:20260908T093000Z
DTEND:20260908T150000Z
SUMMARY:X. Walk To Playa Del Muerto With Bears 2026
LOCATION:Hotel Calipolis, Avinguda Sofia 2-6, Sitges, Spain
DESCRIPTION:/Calendar.aspx?Event=1255\n\nLet's come enjoy walking to countryside with naturistic swimming at Playa del Muerto with gay bears &#128578;\n \nMeet-up\n10:30AM at the corner in front of Hotel Calipolis, Avinguda Sofia 2-6, Sitges.\nMap: https://g.page/hotelcalipolis?share\n\n \nOur aim is to gather people and let them follow us to a remote location towards Vilanova by walk.\nThere is, of course, possibility to swim in the Sea naked &#128578;\n\nYou need: A towel or a blanket, suntan cream, a big bottle of drinking water. Good shoes are necessary, at least outdoor sandals - please don't go in f…
UID:event-1255@praguebears.cz
END:VEVENT


END:VCALENDAR